BEGIN:VCALENDAR
VERSION:2.0
PRODID:-//eremgyujtok.hu - ECPv6.15.17.1//NONSGML v1.0//EN
CALSCALE:GREGORIAN
METHOD:PUBLISH
X-WR-CALNAME:eremgyujtok.hu
X-ORIGINAL-URL:https://eremgyujtok.hu
X-WR-CALDESC:Események eremgyujtok.hu
REFRESH-INTERVAL;VALUE=DURATION:PT1H
X-Robots-Tag:noindex
X-PUBLISHED-TTL:PT1H
BEGIN:VTIMEZONE
TZID:Europe/Budapest
BEGIN:DAYLIGHT
TZOFFSETFROM:+0100
TZOFFSETTO:+0200
TZNAME:CEST
DTSTART:20250330T010000
END:DAYLIGHT
BEGIN:STANDARD
TZOFFSETFROM:+0200
TZOFFSETTO:+0100
TZNAME:CET
DTSTART:20251026T010000
END:STANDARD
BEGIN:DAYLIGHT
TZOFFSETFROM:+0100
TZOFFSETTO:+0200
TZNAME:CEST
DTSTART:20260329T010000
END:DAYLIGHT
BEGIN:STANDARD
TZOFFSETFROM:+0200
TZOFFSETTO:+0100
TZNAME:CET
DTSTART:20261025T010000
END:STANDARD
BEGIN:DAYLIGHT
TZOFFSETFROM:+0100
TZOFFSETTO:+0200
TZNAME:CEST
DTSTART:20270328T010000
END:DAYLIGHT
BEGIN:STANDARD
TZOFFSETFROM:+0200
TZOFFSETTO:+0100
TZNAME:CET
DTSTART:20271031T010000
END:STANDARD
END:VTIMEZONE
BEGIN:VEVENT
DTSTART;TZID=Europe/Budapest:20260314T080000
DTEND;TZID=Europe/Budapest:20260314T130000
DTSTAMP:20260420T210641
CREATED:20250911T104348Z
LAST-MODIFIED:20251007T065822Z
UID:34712-1773475200-1773493200@eremgyujtok.hu
SUMMARY:Országos és Nemzetközi Éremgyűjtő Találkozó (Dunaújváros)
DESCRIPTION:Asztalfoglalás\, további információ: Farkas Attila +36308456689\, Szabados Gábor: +36204192175 \n\n2400 Dunaújváros\, Római körút 47-49\n\n\nDunaújvárosi SZC Rudas Közgazdasági Technikum és Kollégium tornaterme.
URL:https://eremgyujtok.hu/rendezvenyek/orszagos-es-nemzetkozi-eremgyujto-talalkozo-dunaujvaros-6/
CATEGORIES:Alkalmi rendezvények
END:VEVENT
END:VCALENDAR