BEGIN:VCALENDAR
VERSION:2.0
PRODID:-//eremgyujtok.hu - ECPv6.15.17.1//NONSGML v1.0//EN
CALSCALE:GREGORIAN
METHOD:PUBLISH
X-WR-CALNAME:eremgyujtok.hu
X-ORIGINAL-URL:https://eremgyujtok.hu
X-WR-CALDESC:Események eremgyujtok.hu
REFRESH-INTERVAL;VALUE=DURATION:PT1H
X-Robots-Tag:noindex
X-PUBLISHED-TTL:PT1H
BEGIN:VTIMEZONE
TZID:Europe/Budapest
BEGIN:DAYLIGHT
TZOFFSETFROM:+0100
TZOFFSETTO:+0200
TZNAME:CEST
DTSTART:20250330T010000
END:DAYLIGHT
BEGIN:STANDARD
TZOFFSETFROM:+0200
TZOFFSETTO:+0100
TZNAME:CET
DTSTART:20251026T010000
END:STANDARD
BEGIN:DAYLIGHT
TZOFFSETFROM:+0100
TZOFFSETTO:+0200
TZNAME:CEST
DTSTART:20260329T010000
END:DAYLIGHT
BEGIN:STANDARD
TZOFFSETFROM:+0200
TZOFFSETTO:+0100
TZNAME:CET
DTSTART:20261025T010000
END:STANDARD
BEGIN:DAYLIGHT
TZOFFSETFROM:+0100
TZOFFSETTO:+0200
TZNAME:CEST
DTSTART:20270328T010000
END:DAYLIGHT
BEGIN:STANDARD
TZOFFSETFROM:+0200
TZOFFSETTO:+0100
TZNAME:CET
DTSTART:20271031T010000
END:STANDARD
END:VTIMEZONE
BEGIN:VEVENT
DTSTART;TZID=Europe/Budapest:20260329T080000
DTEND;TZID=Europe/Budapest:20260329T120000
DTSTAMP:20260422T130531
CREATED:20250911T082425Z
LAST-MODIFIED:20251217T200040Z
UID:34708-1774771200-1774785600@eremgyujtok.hu
SUMMARY:Numizmatikai és Filatéliai Találkozó Pécs
DESCRIPTION:Asztalfoglalás: Lang Ernő\nTel: 06-30-9395-158\ne-mail: langerno100@gmail.com
URL:https://eremgyujtok.hu/rendezvenyek/numizmatikai-es-filateliai-talalkozo-pecs-9/
LOCATION:Slyven Rendezvény Központ\, Mezőszél u. 1\, Pécs\, 7623\, Hungary
CATEGORIES:Alkalmi rendezvények
END:VEVENT
END:VCALENDAR